Package: SpotClean Version: 1.6.1 Command: rm -rf SpotClean.buildbin-libdir && mkdir SpotClean.buildbin-libdir && E:\biocbuild\bbs-3.19-bioc\R\bin\R.exe CMD INSTALL --build --library=SpotClean.buildbin-libdir SpotClean_1.6.1.tar.gz StartedAt: 2024-10-17 08:43:27 -0400 (Thu, 17 Oct 2024) EndedAt: 2024-10-17 08:44:18 -0400 (Thu, 17 Oct 2024) EllapsedTime: 50.8 seconds RetCode: 0 Status: OK PackageFile: SpotClean_1.6.1.zip PackageFileSize: 2.427 MiB