Package: SpotClean Version: 1.6.1 Command: rm -rf SpotClean.buildbin-libdir && mkdir SpotClean.buildbin-libdir && F:\biocbuild\bbs-3.19-bioc\R\bin\R.exe CMD INSTALL --build --library=SpotClean.buildbin-libdir SpotClean_1.6.1.tar.gz StartedAt: 2024-06-27 08:59:31 -0400 (Thu, 27 Jun 2024) EndedAt: 2024-06-27 09:00:23 -0400 (Thu, 27 Jun 2024) EllapsedTime: 52.6 seconds RetCode: 0 Status: OK PackageFile: SpotClean_1.6.1.zip PackageFileSize: 2.427 MiB