Package: SpotClean Version: 1.6.1 Command: /Library/Frameworks/R.framework/Resources/bin/R CMD build --keep-empty-dirs --no-resave-data SpotClean StartedAt: 2024-06-10 05:29:02 -0400 (Mon, 10 Jun 2024) EndedAt: 2024-06-10 05:33:47 -0400 (Mon, 10 Jun 2024) EllapsedTime: 284.2 seconds RetCode: 0 Status: OK PackageFile: SpotClean_1.6.1.tar.gz PackageFileSize: 4.274 MiB