Package: SpotClean Version: 1.6.1 Command: /Library/Frameworks/R.framework/Resources/bin/R CMD check --install=check:SpotClean.install-out.txt --library=/Library/Frameworks/R.framework/Resources/library --no-vignettes --timings SpotClean_1.6.1.tar.gz StartedAt: 2024-10-18 13:47:13 -0400 (Fri, 18 Oct 2024) EndedAt: 2024-10-18 14:00:21 -0400 (Fri, 18 Oct 2024) EllapsedTime: 787.3 seconds RetCode: 0 Status: OK CheckDir: SpotClean.Rcheck Warnings: 0