Package: SpotClean Version: 1.6.1 Maintainer: Zijian Ni MaintainerEmail: zni25 at wisc.edu git_url: https://git.bioconductor.org/packages/SpotClean git_branch: RELEASE_3_19 git_last_commit: a7c1701 git_last_commit_date: 2024-06-09 13:15:46 -0400 (Sun, 09 Jun 2024)