Package: SplicingGraphs Version: 1.44.0 Command: rm -rf SplicingGraphs.buildbin-libdir && mkdir SplicingGraphs.buildbin-libdir && E:\biocbuild\bbs-3.19-bioc\R\bin\R.exe CMD INSTALL --build --library=SplicingGraphs.buildbin-libdir SplicingGraphs_1.44.0.tar.gz StartedAt: 2024-10-17 08:43:05 -0400 (Thu, 17 Oct 2024) EndedAt: 2024-10-17 08:44:25 -0400 (Thu, 17 Oct 2024) EllapsedTime: 79.9 seconds RetCode: 0 Status: OK PackageFile: SplicingGraphs_1.44.0.zip PackageFileSize: 4.566 MiB