Package: SplicingGraphs Version: 1.44.0 Command: rm -rf SplicingGraphs.buildbin-libdir && mkdir SplicingGraphs.buildbin-libdir && /Users/biocbuild/BBS/utils/build-universal.sh SplicingGraphs_1.44.0.tar.gz /Library/Frameworks/R.framework/Resources/bin/R SplicingGraphs.buildbin-libdir StartedAt: 2024-10-17 17:17:00 -0400 (Thu, 17 Oct 2024) EndedAt: 2024-10-17 17:18:52 -0400 (Thu, 17 Oct 2024) EllapsedTime: 112.2 seconds RetCode: 0 Status: OK PackageFile: SplicingGraphs_1.44.0.tgz PackageFileSize: 4.814 MiB