Package: SplicingFactory Version: 1.12.0 Command: E:\biocbuild\bbs-3.19-bioc\R\bin\R.exe CMD check --no-multiarch --install=check:SplicingFactory.install-out.txt --library=E:\biocbuild\bbs-3.19-bioc\R\library --no-vignettes --timings SplicingFactory_1.12.0.tar.gz StartedAt: 2024-10-17 06:06:22 -0400 (Thu, 17 Oct 2024) EndedAt: 2024-10-17 06:09:12 -0400 (Thu, 17 Oct 2024) EllapsedTime: 170.1 seconds RetCode: 0 Status: OK CheckDir: SplicingFactory.Rcheck Warnings: 0