Package: SplicingFactory Version: 1.12.0 Command: chmod a+r SplicingFactory -R && E:\biocbuild\bbs-3.19-bioc\R\bin\R.exe CMD build --keep-empty-dirs --no-resave-data SplicingFactory StartedAt: 2024-10-16 22:09:07 -0400 (Wed, 16 Oct 2024) EndedAt: 2024-10-16 22:09:52 -0400 (Wed, 16 Oct 2024) EllapsedTime: 44.3 seconds RetCode: 0 Status: OK PackageFile: SplicingFactory_1.12.0.tar.gz PackageFileSize: 429.8 KiB