Package: SplicingFactory Version: 1.12.0 Command: /home/biocbuild/bbs-3.19-bioc/R/bin/R CMD build --keep-empty-dirs --no-resave-data SplicingFactory StartedAt: 2024-10-16 20:59:39 -0400 (Wed, 16 Oct 2024) EndedAt: 2024-10-16 21:00:13 -0400 (Wed, 16 Oct 2024) EllapsedTime: 34.0 seconds RetCode: 0 Status: OK PackageFile: SplicingFactory_1.12.0.tar.gz PackageFileSize: 722.9 KiB