Package: SplicingFactory Version: 1.12.0 Command: /Library/Frameworks/R.framework/Resources/bin/R CMD check --install=check:SplicingFactory.install-out.txt --library=/Library/Frameworks/R.framework/Resources/library --no-vignettes --timings SplicingFactory_1.12.0.tar.gz StartedAt: 2024-10-18 13:42:15 -0400 (Fri, 18 Oct 2024) EndedAt: 2024-10-18 13:45:19 -0400 (Fri, 18 Oct 2024) EllapsedTime: 184.4 seconds RetCode: 0 Status: OK CheckDir: SplicingFactory.Rcheck Warnings: 0