Package: SplicingFactory Version: 1.12.0 Maintainer: Endre Sebestyen MaintainerEmail: endre.sebestyen at gmail.com git_url: https://git.bioconductor.org/packages/SplicingFactory git_branch: RELEASE_3_19 git_last_commit: 4a15836 git_last_commit_date: 2024-04-30 11:29:56 -0400 (Tue, 30 Apr 2024)