Package: SpliceWiz Version: 1.6.6 Command: chmod a+r SpliceWiz -R && E:\biocbuild\bbs-3.19-bioc\R\bin\R.exe CMD build --keep-empty-dirs --no-resave-data SpliceWiz StartedAt: 2024-10-16 22:08:58 -0400 (Wed, 16 Oct 2024) EndedAt: 2024-10-16 22:16:25 -0400 (Wed, 16 Oct 2024) EllapsedTime: 447.1 seconds RetCode: 0 Status: OK PackageFile: SpliceWiz_1.6.6.tar.gz PackageFileSize: 4.007 MiB