Package: SpliceWiz Version: 1.6.6 Command: rm -rf SpliceWiz.buildbin-libdir && mkdir SpliceWiz.buildbin-libdir && E:\biocbuild\bbs-3.19-bioc\R\bin\R.exe CMD INSTALL --build --library=SpliceWiz.buildbin-libdir SpliceWiz_1.6.6.tar.gz StartedAt: 2024-10-17 08:42:59 -0400 (Thu, 17 Oct 2024) EndedAt: 2024-10-17 08:46:51 -0400 (Thu, 17 Oct 2024) EllapsedTime: 232.4 seconds RetCode: 0 Status: OK PackageFile: SpliceWiz_1.6.6.zip PackageFileSize: 5.662 MiB