Package: SpliceWiz Version: 1.6.0 Command: chmod a+r SpliceWiz -R && F:\biocbuild\bbs-3.19-bioc\R\bin\R.exe CMD build --keep-empty-dirs --no-resave-data SpliceWiz StartedAt: 2024-06-26 22:09:30 -0400 (Wed, 26 Jun 2024) EndedAt: 2024-06-26 22:17:27 -0400 (Wed, 26 Jun 2024) EllapsedTime: 476.8 seconds RetCode: 0 Status: OK PackageFile: SpliceWiz_1.6.0.tar.gz PackageFileSize: 4.006 MiB