Package: SpliceWiz Version: 1.6.6 Command: /Library/Frameworks/R.framework/Resources/bin/R CMD build --keep-empty-dirs --no-resave-data SpliceWiz StartedAt: 2024-10-16 23:39:32 -0400 (Wed, 16 Oct 2024) EndedAt: 2024-10-16 23:51:42 -0400 (Wed, 16 Oct 2024) EllapsedTime: 730.4 seconds RetCode: 0 Status: OK PackageFile: SpliceWiz_1.6.6.tar.gz PackageFileSize: 4.65 MiB