Package: SpliceWiz Version: 1.6.6 Command: rm -rf SpliceWiz.buildbin-libdir && mkdir SpliceWiz.buildbin-libdir && /Users/biocbuild/BBS/utils/build-universal.sh SpliceWiz_1.6.6.tar.gz /Library/Frameworks/R.framework/Resources/bin/R SpliceWiz.buildbin-libdir StartedAt: 2024-10-17 17:16:55 -0400 (Thu, 17 Oct 2024) EndedAt: 2024-10-17 17:21:33 -0400 (Thu, 17 Oct 2024) EllapsedTime: 278.2 seconds RetCode: 0 Status: OK PackageFile: SpliceWiz_1.6.6.tgz PackageFileSize: 5.853 MiB