Package: SpliceWiz Version: 1.6.0 Command: /home/biocbuild/R/R-beta-2024-04-15_r86425/bin/R CMD INSTALL SpliceWiz StartedAt: 2024-05-08 21:00:51 -0000 (Wed, 08 May 2024) EndedAt: 2024-05-08 21:03:54 -0000 (Wed, 08 May 2024) EllapsedTime: 183.2 seconds RetCode: 0 Status: OK