Package: SpliceWiz Version: 1.6.0 Command: /home/biocbuild/R/R-beta-2024-04-15_r86425/bin/R CMD check --install=check:SpliceWiz.install-out.txt --library=/home/biocbuild/R/R-beta-2024-04-15_r86425/site-library --no-vignettes --timings SpliceWiz_1.6.0.tar.gz StartedAt: 2024-05-08 12:16:44 -0000 (Wed, 08 May 2024) EndedAt: 2024-05-08 12:34:07 -0000 (Wed, 08 May 2024) EllapsedTime: 1042.9 seconds RetCode: 1 Status: ERROR CheckDir: SpliceWiz.Rcheck Warnings: NA