Package: SpliceWiz Version: 1.6.0 Command: /Library/Frameworks/R.framework/Resources/bin/R CMD check --install=check:SpliceWiz.install-out.txt --library=/Library/Frameworks/R.framework/Resources/library --no-vignettes --timings SpliceWiz_1.6.0.tar.gz StartedAt: 2024-06-11 06:56:39 -0400 (Tue, 11 Jun 2024) EndedAt: 2024-06-11 07:29:38 -0400 (Tue, 11 Jun 2024) EllapsedTime: 1979.2 seconds RetCode: 0 Status: OK CheckDir: SpliceWiz.Rcheck Warnings: 0