Package: SpliceWiz Version: 1.6.0 Command: /Library/Frameworks/R.framework/Resources/bin/R CMD build --keep-empty-dirs --no-resave-data SpliceWiz StartedAt: 2024-06-10 05:25:29 -0400 (Mon, 10 Jun 2024) EndedAt: 2024-06-10 05:36:00 -0400 (Mon, 10 Jun 2024) EllapsedTime: 630.5 seconds RetCode: 0 Status: OK PackageFile: SpliceWiz_1.6.0.tar.gz PackageFileSize: 4.653 MiB