Package: SpliceWiz Version: 1.6.6 Command: /Library/Frameworks/R.framework/Resources/bin/R CMD check --install=check:SpliceWiz.install-out.txt --library=/Library/Frameworks/R.framework/Resources/library --no-vignettes --timings SpliceWiz_1.6.6.tar.gz StartedAt: 2024-10-18 13:41:06 -0400 (Fri, 18 Oct 2024) EndedAt: 2024-10-18 14:05:07 -0400 (Fri, 18 Oct 2024) EllapsedTime: 1440.2 seconds RetCode: 0 Status: OK CheckDir: SpliceWiz.Rcheck Warnings: 0