Package: SpliceWiz Version: 1.6.6 Command: /Library/Frameworks/R.framework/Resources/bin/R CMD build --keep-empty-dirs --no-resave-data SpliceWiz StartedAt: 2024-10-17 09:59:01 -0400 (Thu, 17 Oct 2024) EndedAt: 2024-10-17 10:06:33 -0400 (Thu, 17 Oct 2024) EllapsedTime: 451.5 seconds RetCode: 0 Status: OK PackageFile: SpliceWiz_1.6.6.tar.gz PackageFileSize: 4.654 MiB