Package: SpliceWiz Version: 1.6.6 Maintainer: Alex Chit Hei Wong MaintainerEmail: alexchwong.github at gmail.com git_url: https://git.bioconductor.org/packages/SpliceWiz git_branch: RELEASE_3_19 git_last_commit: 224053d git_last_commit_date: 2024-10-12 18:58:41 -0400 (Sat, 12 Oct 2024)