Package: SpidermiR Version: 1.34.0 Command: chmod a+r SpidermiR -R && E:\biocbuild\bbs-3.19-bioc\R\bin\R.exe CMD build --keep-empty-dirs --no-resave-data SpidermiR StartedAt: 2024-10-16 22:08:16 -0400 (Wed, 16 Oct 2024) EndedAt: 2024-10-16 22:08:19 -0400 (Wed, 16 Oct 2024) EllapsedTime: 3.2 seconds RetCode: 0 Status: OK PackageFile: SpidermiR_1.34.0.tar.gz PackageFileSize: 8.694 KiB