Package: SpectralTAD Version: 1.20.0 Command: chmod a+r SpectralTAD -R && E:\biocbuild\bbs-3.19-bioc\R\bin\R.exe CMD build --keep-empty-dirs --no-resave-data SpectralTAD StartedAt: 2024-10-16 22:07:55 -0400 (Wed, 16 Oct 2024) EndedAt: 2024-10-16 22:10:06 -0400 (Wed, 16 Oct 2024) EllapsedTime: 131.0 seconds RetCode: 0 Status: OK PackageFile: SpectralTAD_1.20.0.tar.gz PackageFileSize: 1.491 MiB