Package: SpectralTAD Version: 1.20.0 Command: /home/biocbuild/bbs-3.19-bioc/R/bin/R CMD build --keep-empty-dirs --no-resave-data SpectralTAD StartedAt: 2024-10-16 20:59:06 -0400 (Wed, 16 Oct 2024) EndedAt: 2024-10-16 21:00:46 -0400 (Wed, 16 Oct 2024) EllapsedTime: 99.3 seconds RetCode: 0 Status: OK PackageFile: SpectralTAD_1.20.0.tar.gz PackageFileSize: 1.491 MiB