Package: SpectralTAD Version: 1.20.0 Command: /Library/Frameworks/R.framework/Resources/bin/R CMD build --keep-empty-dirs --no-resave-data SpectralTAD StartedAt: 2024-10-16 23:38:00 -0400 (Wed, 16 Oct 2024) EndedAt: 2024-10-16 23:41:55 -0400 (Wed, 16 Oct 2024) EllapsedTime: 234.8 seconds RetCode: 0 Status: OK PackageFile: SpectralTAD_1.20.0.tar.gz PackageFileSize: 1.491 MiB