Package: SpectralTAD Version: 1.20.0 Command: /Library/Frameworks/R.framework/Resources/bin/R CMD build --keep-empty-dirs --no-resave-data SpectralTAD StartedAt: 2024-10-17 09:53:08 -0400 (Thu, 17 Oct 2024) EndedAt: 2024-10-17 09:55:14 -0400 (Thu, 17 Oct 2024) EllapsedTime: 126.6 seconds RetCode: 0 Status: OK PackageFile: SpectralTAD_1.20.0.tar.gz PackageFileSize: 1.492 MiB