Package: Spectra Version: 1.14.1 Command: E:\biocbuild\bbs-3.19-bioc\R\bin\R.exe CMD INSTALL Spectra StartedAt: 2024-10-16 16:14:26 -0400 (Wed, 16 Oct 2024) EndedAt: 2024-10-16 16:15:30 -0400 (Wed, 16 Oct 2024) EllapsedTime: 63.2 seconds RetCode: 0 Status: OK