Package: Spectra Version: 1.14.1 Command: /home/biocbuild/bbs-3.19-bioc/R/bin/R CMD build --keep-empty-dirs --no-resave-data Spectra StartedAt: 2024-10-16 20:58:53 -0400 (Wed, 16 Oct 2024) EndedAt: 2024-10-16 20:59:40 -0400 (Wed, 16 Oct 2024) EllapsedTime: 47.1 seconds RetCode: 0 Status: OK PackageFile: Spectra_1.14.1.tar.gz PackageFileSize: 1.445 MiB