Package: Spectra Version: 1.14.1 Command: /Library/Frameworks/R.framework/Resources/bin/R CMD INSTALL Spectra StartedAt: 2024-10-16 15:27:56 -0400 (Wed, 16 Oct 2024) EndedAt: 2024-10-16 15:28:35 -0400 (Wed, 16 Oct 2024) EllapsedTime: 39.1 seconds RetCode: 0 Status: OK