Package: Spectra Version: 1.14.1 Command: /Library/Frameworks/R.framework/Resources/bin/R CMD check --install=check:Spectra.install-out.txt --library=/Library/Frameworks/R.framework/Resources/library --no-vignettes --timings Spectra_1.14.1.tar.gz StartedAt: 2024-10-17 13:38:23 -0400 (Thu, 17 Oct 2024) EndedAt: 2024-10-17 13:56:28 -0400 (Thu, 17 Oct 2024) EllapsedTime: 1084.8 seconds RetCode: 0 Status: OK CheckDir: Spectra.Rcheck Warnings: 0