Package: Spectra Version: 1.14.1 Command: /Library/Frameworks/R.framework/Resources/bin/R CMD build --keep-empty-dirs --no-resave-data Spectra StartedAt: 2024-10-16 23:37:18 -0400 (Wed, 16 Oct 2024) EndedAt: 2024-10-16 23:39:32 -0400 (Wed, 16 Oct 2024) EllapsedTime: 134.0 seconds RetCode: 0 Status: OK PackageFile: Spectra_1.14.1.tar.gz PackageFileSize: 1.486 MiB