Package: Spectra Version: 1.14.0 Command: /home/biocbuild/R/R-beta-2024-04-15_r86425/bin/R CMD build --keep-empty-dirs --no-resave-data Spectra StartedAt: 2024-05-09 03:49:10 -0000 (Thu, 09 May 2024) EndedAt: 2024-05-09 03:50:25 -0000 (Thu, 09 May 2024) EllapsedTime: 75.1 seconds RetCode: 0 Status: OK PackageFile: Spectra_1.14.0.tar.gz PackageFileSize: 1.614 MiB