Package: Spectra Version: 1.14.1 Command: rm -rf Spectra.buildbin-libdir && mkdir Spectra.buildbin-libdir && /Users/biocbuild/BBS/utils/build-universal.sh Spectra_1.14.1.tar.gz /Library/Frameworks/R.framework/Resources/bin/R Spectra.buildbin-libdir StartedAt: 2024-10-15 20:26:58 -0400 (Tue, 15 Oct 2024) EndedAt: 2024-10-15 20:27:20 -0400 (Tue, 15 Oct 2024) EllapsedTime: 21.8 seconds RetCode: 0 Status: OK PackageFile: Spectra_1.14.1.tgz PackageFileSize: 2.014 MiB