Package: SpeCond Version: 1.58.0 Command: chmod a+r SpeCond -R && E:\biocbuild\bbs-3.19-bioc\R\bin\R.exe CMD build --keep-empty-dirs --no-resave-data SpeCond StartedAt: 2024-10-16 22:07:41 -0400 (Wed, 16 Oct 2024) EndedAt: 2024-10-16 22:08:47 -0400 (Wed, 16 Oct 2024) EllapsedTime: 66.1 seconds RetCode: 0 Status: OK PackageFile: SpeCond_1.58.0.tar.gz PackageFileSize: 1.701 MiB