Package: SpeCond Version: 1.58.0 Command: F:\biocbuild\bbs-3.19-bioc\R\bin\R.exe CMD INSTALL SpeCond StartedAt: 2024-06-26 15:48:35 -0400 (Wed, 26 Jun 2024) EndedAt: 2024-06-26 15:48:53 -0400 (Wed, 26 Jun 2024) EllapsedTime: 17.3 seconds RetCode: 0 Status: OK