Package: SpeCond Version: 1.58.0 Command: rm -rf SpeCond.buildbin-libdir && mkdir SpeCond.buildbin-libdir && F:\biocbuild\bbs-3.19-bioc\R\bin\R.exe CMD INSTALL --build --library=SpeCond.buildbin-libdir SpeCond_1.58.0.tar.gz StartedAt: 2024-06-27 08:58:50 -0400 (Thu, 27 Jun 2024) EndedAt: 2024-06-27 08:59:03 -0400 (Thu, 27 Jun 2024) EllapsedTime: 13.1 seconds RetCode: 0 Status: OK PackageFile: SpeCond_1.58.0.zip PackageFileSize: 1.198 MiB