Package: SpeCond Version: 1.58.0 Command: /home/biocbuild/bbs-3.19-bioc/R/bin/R CMD INSTALL SpeCond StartedAt: 2024-10-16 15:57:36 -0400 (Wed, 16 Oct 2024) EndedAt: 2024-10-16 15:57:43 -0400 (Wed, 16 Oct 2024) EllapsedTime: 6.7 seconds RetCode: 0 Status: OK