Package: SpeCond Version: 1.58.0 Command: /home/biocbuild/bbs-3.19-bioc/R/bin/R CMD build --keep-empty-dirs --no-resave-data SpeCond StartedAt: 2024-10-16 20:58:49 -0400 (Wed, 16 Oct 2024) EndedAt: 2024-10-16 20:59:34 -0400 (Wed, 16 Oct 2024) EllapsedTime: 45.1 seconds RetCode: 0 Status: OK PackageFile: SpeCond_1.58.0.tar.gz PackageFileSize: 1.699 MiB