Package: SpeCond Version: 1.58.0 Command: /Library/Frameworks/R.framework/Resources/bin/R CMD check --install=check:SpeCond.install-out.txt --library=/Library/Frameworks/R.framework/Resources/library --no-vignettes --timings SpeCond_1.58.0.tar.gz StartedAt: 2024-06-09 23:14:47 -0400 (Sun, 09 Jun 2024) EndedAt: 2024-06-09 23:16:29 -0400 (Sun, 09 Jun 2024) EllapsedTime: 101.4 seconds RetCode: 0 Status: OK CheckDir: SpeCond.Rcheck Warnings: 0