Package: SpeCond Version: 1.58.0 Command: /Library/Frameworks/R.framework/Resources/bin/R CMD build --keep-empty-dirs --no-resave-data SpeCond StartedAt: 2024-06-10 05:20:24 -0400 (Mon, 10 Jun 2024) EndedAt: 2024-06-10 05:21:28 -0400 (Mon, 10 Jun 2024) EllapsedTime: 63.5 seconds RetCode: 0 Status: OK PackageFile: SpeCond_1.58.0.tar.gz PackageFileSize: 1.699 MiB