Package: SpatialOmicsOverlay Version: 1.4.0 Command: E:\biocbuild\bbs-3.19-bioc\R\bin\R.exe CMD INSTALL SpatialOmicsOverlay StartedAt: 2024-10-16 16:46:51 -0400 (Wed, 16 Oct 2024) EndedAt: 2024-10-16 16:48:00 -0400 (Wed, 16 Oct 2024) EllapsedTime: 69.4 seconds RetCode: 0 Status: OK