Package: SpatialOmicsOverlay Version: 1.4.0 Command: chmod a+r SpatialOmicsOverlay -R && E:\biocbuild\bbs-3.19-bioc\R\bin\R.exe CMD build --keep-empty-dirs --no-resave-data SpatialOmicsOverlay StartedAt: 2024-10-16 22:06:18 -0400 (Wed, 16 Oct 2024) EndedAt: 2024-10-16 22:17:05 -0400 (Wed, 16 Oct 2024) EllapsedTime: 646.5 seconds RetCode: 0 Status: OK PackageFile: SpatialOmicsOverlay_1.4.0.tar.gz PackageFileSize: 4.307 MiB