Package: SpatialOmicsOverlay Version: 1.4.0 Command: rm -rf SpatialOmicsOverlay.buildbin-libdir && mkdir SpatialOmicsOverlay.buildbin-libdir && E:\biocbuild\bbs-3.19-bioc\R\bin\R.exe CMD INSTALL --build --library=SpatialOmicsOverlay.buildbin-libdir SpatialOmicsOverlay_1.4.0.tar.gz StartedAt: 2024-10-17 08:42:11 -0400 (Thu, 17 Oct 2024) EndedAt: 2024-10-17 08:44:09 -0400 (Thu, 17 Oct 2024) EllapsedTime: 118.1 seconds RetCode: 0 Status: OK PackageFile: SpatialOmicsOverlay_1.4.0.zip PackageFileSize: 4.494 MiB