Package: SpatialOmicsOverlay Version: 1.4.0 Command: F:\biocbuild\bbs-3.19-bioc\R\bin\R.exe CMD INSTALL SpatialOmicsOverlay StartedAt: 2024-06-26 16:21:08 -0400 (Wed, 26 Jun 2024) EndedAt: 2024-06-26 16:22:01 -0400 (Wed, 26 Jun 2024) EllapsedTime: 53.1 seconds RetCode: 0 Status: OK