Package: SpatialOmicsOverlay Version: 1.4.0 Command: chmod a+r SpatialOmicsOverlay -R && F:\biocbuild\bbs-3.19-bioc\R\bin\R.exe CMD build --keep-empty-dirs --no-resave-data SpatialOmicsOverlay StartedAt: 2024-06-26 22:06:55 -0400 (Wed, 26 Jun 2024) EndedAt: 2024-06-26 22:18:24 -0400 (Wed, 26 Jun 2024) EllapsedTime: 689.1 seconds RetCode: 0 Status: OK PackageFile: SpatialOmicsOverlay_1.4.0.tar.gz PackageFileSize: 4.307 MiB