Package: SpatialOmicsOverlay Version: 1.4.0 Command: rm -rf SpatialOmicsOverlay.buildbin-libdir && mkdir SpatialOmicsOverlay.buildbin-libdir && F:\biocbuild\bbs-3.19-bioc\R\bin\R.exe CMD INSTALL --build --library=SpatialOmicsOverlay.buildbin-libdir SpatialOmicsOverlay_1.4.0.tar.gz StartedAt: 2024-06-27 08:58:33 -0400 (Thu, 27 Jun 2024) EndedAt: 2024-06-27 08:59:38 -0400 (Thu, 27 Jun 2024) EllapsedTime: 65.0 seconds RetCode: 0 Status: OK PackageFile: SpatialOmicsOverlay_1.4.0.zip PackageFileSize: 4.494 MiB