Package: SpatialOmicsOverlay Version: 1.4.0 Command: /home/biocbuild/bbs-3.19-bioc/R/bin/R CMD build --keep-empty-dirs --no-resave-data SpatialOmicsOverlay StartedAt: 2024-10-16 20:57:57 -0400 (Wed, 16 Oct 2024) EndedAt: 2024-10-16 21:06:03 -0400 (Wed, 16 Oct 2024) EllapsedTime: 486.2 seconds RetCode: 0 Status: OK PackageFile: SpatialOmicsOverlay_1.4.0.tar.gz PackageFileSize: 4.343 MiB